BEGIN:VCALENDAR
VERSION:2.0
PRODID:-//Karen Suzanne Daniel, MS, CNS, LDN - ECPv6.15.17.1//NONSGML v1.0//EN
CALSCALE:GREGORIAN
METHOD:PUBLISH
X-ORIGINAL-URL:http://www.simplenutritionist.com
X-WR-CALDESC:Events for Karen Suzanne Daniel, MS, CNS, LDN
REFRESH-INTERVAL;VALUE=DURATION:PT1H
X-Robots-Tag:noindex
X-PUBLISHED-TTL:PT1H
BEGIN:VTIMEZONE
TZID:UTC
BEGIN:STANDARD
TZOFFSETFROM:+0000
TZOFFSETTO:+0000
TZNAME:UTC
DTSTART:20160101T000000
END:STANDARD
END:VTIMEZONE
BEGIN:VTIMEZONE
TZID:America/New_York
BEGIN:DAYLIGHT
TZOFFSETFROM:-0500
TZOFFSETTO:-0400
TZNAME:EDT
DTSTART:20160313T070000
END:DAYLIGHT
BEGIN:STANDARD
TZOFFSETFROM:-0400
TZOFFSETTO:-0500
TZNAME:EST
DTSTART:20161106T060000
END:STANDARD
BEGIN:DAYLIGHT
TZOFFSETFROM:-0500
TZOFFSETTO:-0400
TZNAME:EDT
DTSTART:20170312T070000
END:DAYLIGHT
BEGIN:STANDARD
TZOFFSETFROM:-0400
TZOFFSETTO:-0500
TZNAME:EST
DTSTART:20171105T060000
END:STANDARD
BEGIN:DAYLIGHT
TZOFFSETFROM:-0500
TZOFFSETTO:-0400
TZNAME:EDT
DTSTART:20180311T070000
END:DAYLIGHT
BEGIN:STANDARD
TZOFFSETFROM:-0400
TZOFFSETTO:-0500
TZNAME:EST
DTSTART:20181104T060000
END:STANDARD
END:VTIMEZONE
BEGIN:VEVENT
DTSTART;TZID=UTC:20171107T190000
DTEND;TZID=UTC:20171107T203000
DTSTAMP:20260422T094935
CREATED:20170610T203049Z
LAST-MODIFIED:20170610T203207Z
UID:1445-1510081200-1510086600@www.simplenutritionist.com
SUMMARY:Is Sugar Sabotaging School Success?
DESCRIPTION:Join a discussion on how sugar affects attention and learning in children. Talk with nutritionist Karen Suzanne Daniel as she explores ways sugar consumption impacts brain function and self control and what parents can do about it. Identify hidden sugars in every day foods\, even the so called “healthy” ones\, and explore alternatives that also taste great.
URL:http://www.simplenutritionist.com/event/is-sugar-sabotaging-school-success/
LOCATION:Eldersburg Library\, 6400 W Hemlock Drive\, Sykesville\, MD\, 21784\, United States
ATTACH;FMTTYPE=image/jpeg:http://www.simplenutritionist.com/wp-content/uploads/2017/06/boy_plate_cookies_chocolate.jpg
END:VEVENT
BEGIN:VEVENT
DTSTART;TZID=America/New_York:20170907T190000
DTEND;TZID=America/New_York:20170907T203000
DTSTAMP:20260422T094935
CREATED:20170527T191434Z
LAST-MODIFIED:20170610T202800Z
UID:440-1504810800-1504816200@www.simplenutritionist.com
SUMMARY:A Healthier Lunchbox: The Secret to School Success
DESCRIPTION:Parents\, come harness the back-to-school excitement and learn how keep your kids focused and attentive throughout the school day. Lets explore the power of selecting balanced foods that avoid the sugar high – and CRASH – that derails learning. We will also identify which “healthy foods” may be sabotaging your child. Join nutritionist Karen Suzanne Daniel as she provides practical tips for packing a healthy lunch in minutes that your kids will love.
URL:http://www.simplenutritionist.com/event/healthier-lunchbox/
LOCATION:Finksburg Branch Library\, 2265 Old Westminster Pike\, Finksburg\, MD\, 21048\, United States
CATEGORIES:Community,Food,Outreach
ATTACH;FMTTYPE=image/jpeg:http://www.simplenutritionist.com/wp-content/uploads/2017/05/IMG_2518-2406.jpg
END:VEVENT
END:VCALENDAR